BEGIN:VCALENDAR
VERSION:2.0
PRODID:-//Pennsylvania Association of Professional Soil Scientists (PAPSS) - ECPv6.15.17.1//NONSGML v1.0//EN
CALSCALE:GREGORIAN
METHOD:PUBLISH
X-WR-CALNAME:Pennsylvania Association of Professional Soil Scientists (PAPSS)
X-ORIGINAL-URL:https://www.papss.org
X-WR-CALDESC:Events for Pennsylvania Association of Professional Soil Scientists (PAPSS)
REFRESH-INTERVAL;VALUE=DURATION:PT1H
X-Robots-Tag:noindex
X-PUBLISHED-TTL:PT1H
BEGIN:VTIMEZONE
TZID:America/New_York
BEGIN:DAYLIGHT
TZOFFSETFROM:-0500
TZOFFSETTO:-0400
TZNAME:EDT
DTSTART:20230312T070000
END:DAYLIGHT
BEGIN:STANDARD
TZOFFSETFROM:-0400
TZOFFSETTO:-0500
TZNAME:EST
DTSTART:20231105T060000
END:STANDARD
BEGIN:DAYLIGHT
TZOFFSETFROM:-0500
TZOFFSETTO:-0400
TZNAME:EDT
DTSTART:20240310T070000
END:DAYLIGHT
BEGIN:STANDARD
TZOFFSETFROM:-0400
TZOFFSETTO:-0500
TZNAME:EST
DTSTART:20241103T060000
END:STANDARD
BEGIN:DAYLIGHT
TZOFFSETFROM:-0500
TZOFFSETTO:-0400
TZNAME:EDT
DTSTART:20250309T070000
END:DAYLIGHT
BEGIN:STANDARD
TZOFFSETFROM:-0400
TZOFFSETTO:-0500
TZNAME:EST
DTSTART:20251102T060000
END:STANDARD
BEGIN:DAYLIGHT
TZOFFSETFROM:-0500
TZOFFSETTO:-0400
TZNAME:EDT
DTSTART:20260308T070000
END:DAYLIGHT
BEGIN:STANDARD
TZOFFSETFROM:-0400
TZOFFSETTO:-0500
TZNAME:EST
DTSTART:20261101T060000
END:STANDARD
END:VTIMEZONE
BEGIN:VEVENT
DTSTART;TZID=America/New_York:20240821T000000
DTEND;TZID=America/New_York:20240822T235959
DTSTAMP:20260421T163744
CREATED:20240718T004801Z
LAST-MODIFIED:20240718T013558Z
UID:2787-1724198400-1724371199@www.papss.org
SUMMARY:Classroom and Field Seminar on Regional Supplement\, Hydric Soil Indicators and Wetland Delineation Data Forms
DESCRIPTION:2-Day Classroom and Field Seminar on Hydric Soil Indicators and Implementing the Eastern Mountains and Piedmont Regional Supplement to the Army Corps of Engineers Wetland Delineation Manual. \n\n\n\nDATE: Wednesday August 21\, 2024 AND Thursday August 22\, 2024 \n\n\n\nTIME: Wednesday 8:00 AM to 8:30 AM – Registration\, 8:00 AM to 4:00 PM Seminar           Thursday 8:30 AM to 4:00 PM – Field Activities (Meeting Directions Provided) \n\n\n\nWHERE: Adams County Agricultural and Natural Resources Center               670 Old Harrisburg Road               Gettysburg\, PA 17325 \n\n\n\nPRICE: $200 PAPSS MEMBERS / $250 NON-PAPSS MEMBERS \n\n\n\nSPEAKERS: Frank Plewa\, U.S. Army Corps of Engineers                      USDA NRCS staff soil scientists                      PAPSS soil scientists \n\n\n\nCREDIT: Certificate of Attendance from PAPSS; PA SEO Conference Credits \n\n\n\nFull event details and registration form found here: PAPSS-hydric-soils-August-2024-FINAL.pdf
URL:https://www.papss.org/event/classroom-and-field-seminar-on-regional-supplement-hydric-soil-indicators-and-wetland-delineation-data-forms-2/
LOCATION:Adams County Agricultural and Natural Resources Center\, 670 Old Harrisburg Road\, Gettysburg\, Pennsylvania\, 17325\, United States
CATEGORIES:Events
END:VEVENT
BEGIN:VEVENT
DTSTART;TZID=America/New_York:20250617T080000
DTEND;TZID=America/New_York:20250618T170000
DTSTAMP:20260421T163744
CREATED:20250404T170803Z
LAST-MODIFIED:20250509T023105Z
UID:3051-1750147200-1750266000@www.papss.org
SUMMARY:PA Soils Conference and PAPSS 50th Anniversary Celebration
DESCRIPTION:DATE: Tuesday June 17\, 2025 AND Wednesday June 18\, 2025 \n\n\n\nWHERE: Lambert Hall               303 Forge Road               Bellefonte\, PA 16823 \n\n\n\nFull event details and registration form found here: 50th Anniversary Celebration
URL:https://www.papss.org/event/pa-soils-conference-and-papss-50th-anniversary-celebration/
LOCATION:Lambert Hall\, 303 Forge Rd\, Bellefonte\, Pennsylvania\, 16823
CATEGORIES:Events
END:VEVENT
BEGIN:VEVENT
DTSTART;TZID=America/New_York:20251120T000000
DTEND;TZID=America/New_York:20251120T235959
DTSTAMP:20260421T163744
CREATED:20250826T014354Z
LAST-MODIFIED:20251107T183901Z
UID:3220-1763596800-1763683199@www.papss.org
SUMMARY:2025 Annual Meeting & Technical Session
DESCRIPTION:PAPSS Fall Technical Session & Annual Meeting \n\n\n\nDate: Thursday\, November 20\, 2025Time: 8:30 AM – 3:30 PMLocation: Giant Food\, Camp Hill Shopping Center \n\n\n\nHosted by: Pennsylvania Association of Professional Soil Scientists (PAPSS) \n\n\n\nPresentations Include: \n\n\n\nJenwei Tsai – Delaware Soil Requirements and Procedures for On-Lot Systems Greater Than 2500 gpdFormerly with DENRC📧 jtsai@verdantas.com \n\n\n\nRuss Losco – Delaware Soil Requirements and Procedures for On-Lot Systems Less Than 2500 gpdPrivate Consulting Soil Scientist and Geologist📧 soildude@comcast.net \n\n\n\nTom Ashton – Virginia–North Carolina–Ohio Soil Requirements and Procedures for On-Lot SewagePrivate Soil Consultant and Manufacturer Representative📧 twa220@aol.com \n\n\n\nClick here for the event flyer and registration.
URL:https://www.papss.org/event/papss-fall-technical-session-and-annual-meeting/
LOCATION:Giant Food in the Camp Hill Shopping Center\, 3301 East Trindle Road\, Camp Hill\, Pennsylvania\, 17011
END:VEVENT
END:VCALENDAR